BEGIN:VCALENDAR
VERSION:2.0
PRODID:-//Karine Cloutier - ECPv6.15.20//NONSGML v1.0//EN
CALSCALE:GREGORIAN
METHOD:PUBLISH
X-WR-CALNAME:Karine Cloutier
X-ORIGINAL-URL:https://www.karinecloutier.com
X-WR-CALDESC:Évènements pour Karine Cloutier
REFRESH-INTERVAL;VALUE=DURATION:PT1H
X-Robots-Tag:noindex
X-PUBLISHED-TTL:PT1H
BEGIN:VTIMEZONE
TZID:America/New_York
BEGIN:DAYLIGHT
TZOFFSETFROM:-0500
TZOFFSETTO:-0400
TZNAME:EDT
DTSTART:20250309T070000
END:DAYLIGHT
BEGIN:STANDARD
TZOFFSETFROM:-0400
TZOFFSETTO:-0500
TZNAME:EST
DTSTART:20251102T060000
END:STANDARD
BEGIN:DAYLIGHT
TZOFFSETFROM:-0500
TZOFFSETTO:-0400
TZNAME:EDT
DTSTART:20260308T070000
END:DAYLIGHT
BEGIN:STANDARD
TZOFFSETFROM:-0400
TZOFFSETTO:-0500
TZNAME:EST
DTSTART:20261101T060000
END:STANDARD
BEGIN:DAYLIGHT
TZOFFSETFROM:-0500
TZOFFSETTO:-0400
TZNAME:EDT
DTSTART:20270314T070000
END:DAYLIGHT
BEGIN:STANDARD
TZOFFSETFROM:-0400
TZOFFSETTO:-0500
TZNAME:EST
DTSTART:20271107T060000
END:STANDARD
END:VTIMEZONE
BEGIN:VEVENT
DTSTART;VALUE=DATE:20260427
DTEND;VALUE=DATE:20260502
DTSTAMP:20260420T100817
CREATED:20260302T232032Z
LAST-MODIFIED:20260405T205013Z
UID:10001589-1777248000-1777679999@www.karinecloutier.com
SUMMARY:Danse afro-contemporaine / École primaire de Barraute
DESCRIPTION:Atelier sur mesure pour l’école Barraute\, en Abitibi-Témiscamingue. \nDans le cadre du programme Culture à l’école. \n9 groupes seront en atelier du 27 avril au 1er mai 2026.
URL:https://www.karinecloutier.com/activites/danse-afro-contemporaine-ecole-primaire-de-barraute/
LOCATION:École Barraute\, Québec\, Canada
CATEGORIES:Classe de groupe Zoom
ATTACH;FMTTYPE=image/jpeg:https://www.karinecloutier.com/wp-content/uploads/2023/01/Ka-Burkina.jpg
END:VEVENT
BEGIN:VEVENT
DTSTART;TZID=America/New_York:20260428T063000
DTEND;TZID=America/New_York:20260428T073000
DTSTAMP:20260420T100817
CREATED:20260405T010241Z
LAST-MODIFIED:20260405T010241Z
UID:10001605-1777357800-1777361400@www.karinecloutier.com
SUMMARY:Guerrières des aurores _ yoga matinal en ligne
DESCRIPTION:Les mardis 6h30 à 7h30 _ \nOn se lève aux aurores pour s’étirer le costume. Pour s’épingler dans l’espace et pour ancrer nos pieds et activer nos orteils. C’est un moment de nourrissant et joyeux les mardis matins. Au rythme des saisons je m’adapte à vos besoins. Au plaisir de vous guider. \nVia Zoom * rediffusion disponible pour toute la session. \nDrop In _ 23$ + taxes (pas de rediffusion) \nAccessible à tous. \nToutes les infos dans la boutique.
URL:https://www.karinecloutier.com/activites/guerrieres-des-aurores-_-yoga-matinal-en-ligne-4/2026-04-28/
LOCATION:Zoom
CATEGORIES:Classe de groupe Zoom
ATTACH;FMTTYPE=image/png:https://www.karinecloutier.com/wp-content/uploads/2026/04/printemps-2026.png
END:VEVENT
END:VCALENDAR