BEGIN:VCALENDAR
VERSION:2.0
PRODID:-//Karine Cloutier - ECPv6.15.20//NONSGML v1.0//EN
CALSCALE:GREGORIAN
METHOD:PUBLISH
X-ORIGINAL-URL:https://www.karinecloutier.com
X-WR-CALDESC:Évènements pour Karine Cloutier
REFRESH-INTERVAL;VALUE=DURATION:PT1H
X-Robots-Tag:noindex
X-PUBLISHED-TTL:PT1H
BEGIN:VTIMEZONE
TZID:America/New_York
BEGIN:DAYLIGHT
TZOFFSETFROM:-0500
TZOFFSETTO:-0400
TZNAME:EDT
DTSTART:20240310T070000
END:DAYLIGHT
BEGIN:STANDARD
TZOFFSETFROM:-0400
TZOFFSETTO:-0500
TZNAME:EST
DTSTART:20241103T060000
END:STANDARD
BEGIN:DAYLIGHT
TZOFFSETFROM:-0500
TZOFFSETTO:-0400
TZNAME:EDT
DTSTART:20250309T070000
END:DAYLIGHT
BEGIN:STANDARD
TZOFFSETFROM:-0400
TZOFFSETTO:-0500
TZNAME:EST
DTSTART:20251102T060000
END:STANDARD
BEGIN:DAYLIGHT
TZOFFSETFROM:-0500
TZOFFSETTO:-0400
TZNAME:EDT
DTSTART:20260308T070000
END:DAYLIGHT
BEGIN:STANDARD
TZOFFSETFROM:-0400
TZOFFSETTO:-0500
TZNAME:EST
DTSTART:20261101T060000
END:STANDARD
END:VTIMEZONE
BEGIN:VEVENT
DTSTART;VALUE=DATE:20250710
DTEND;VALUE=DATE:20250721
DTSTAMP:20260419T134851
CREATED:20250620T110859Z
LAST-MODIFIED:20250620T110859Z
UID:10001061-1752105600-1753055999@www.karinecloutier.com
SUMMARY:Anticosti _ Mission 1000 Tonnes
DESCRIPTION:Une expérience inoubliable sur Anticosti pour Mission 1000 Tonnes. \ndu 10 au 20 juillet 2025
URL:https://www.karinecloutier.com/activites/anticosti-_-mission-1000-tonnes/
CATEGORIES:Événement
ATTACH;FMTTYPE=image/jpeg:https://www.karinecloutier.com/wp-content/uploads/2025/06/2024-08-09-Expedition-Saint-Laurent-Jour-01-55-scaled.jpg
END:VEVENT
END:VCALENDAR